BEGIN:VCALENDAR
VERSION:2.0
PRODID:-//Denise Johanson - ECPv6.15.20//NONSGML v1.0//EN
CALSCALE:GREGORIAN
METHOD:PUBLISH
X-ORIGINAL-URL:https://denisejohanson.com
X-WR-CALDESC:Events for Denise Johanson
REFRESH-INTERVAL;VALUE=DURATION:PT1H
X-Robots-Tag:noindex
X-PUBLISHED-TTL:PT1H
BEGIN:VTIMEZONE
TZID:UTC
BEGIN:STANDARD
TZOFFSETFROM:+0000
TZOFFSETTO:+0000
TZNAME:UTC
DTSTART:20210101T000000
END:STANDARD
END:VTIMEZONE
BEGIN:VEVENT
DTSTART;TZID=UTC:20240225T110000
DTEND;TZID=UTC:20240225T160000
DTSTAMP:20260420T051719
CREATED:20240215T213921Z
LAST-MODIFIED:20240215T213921Z
UID:10000003-1708858800-1708876800@denisejohanson.com
SUMMARY:Art Walk
DESCRIPTION:  \n \nSave the day\n Sunday February 25th\, \n3 artists 2 locations 11am – 4pm \n\nDenise Johanson Pet Portrait Artist\n1335 Chelsea Av. \nMauricio Navarro Multimedia Artist\nand Ana Rossi Pottery Artist\n1201- 24th St. \n\nAll Art lovers of Santa Monica \nwe would love to see you\, \ncome and enjoy beautiful art \nby 3 local artists. Open the door \nto their studios\, don’t miss it \nSnacks and drinks provided
URL:https://denisejohanson.com/event/art-walk/
END:VEVENT
BEGIN:VEVENT
DTSTART;VALUE=DATE:20220215
DTEND;VALUE=DATE:20220216
DTSTAMP:20260420T051719
CREATED:20211231T082830Z
LAST-MODIFIED:20220201T071541Z
UID:10000002-1644883200-1644969599@denisejohanson.com
SUMMARY:Utah Buffalo roundup
DESCRIPTION:Utah Buffalo roundup is Hosted each year at Antelope Island State Park\, the Bison Roundup is a primary tool utilized to help ensure the continued health of one of the nation’s largest and oldest public bison herds. I was able to attend with my friend Mark Weiler\, professional photographer and videographer in Salt Lake City. We had a great day shooting with a 500mm lens. There must have been over 300 cowboys and 700 buffalo. Quite a thrilling event as they ran past us.
URL:https://denisejohanson.com/event/utah-buffalo-roundup/
ATTACH;FMTTYPE=image/jpeg:https://denisejohanson.com/wp-content/uploads/2021/12/denise-photographing-buffalo-round-up-utah-1-1.jpg
END:VEVENT
END:VCALENDAR